BEGIN:VCALENDAR
VERSION:2.0
PRODID:-//St. Pascal Regional Catholic School - ECPv6.15.17.1//NONSGML v1.0//EN
CALSCALE:GREGORIAN
METHOD:PUBLISH
X-ORIGINAL-URL:https://stpascalschool.org
X-WR-CALDESC:Events for St. Pascal Regional Catholic School
REFRESH-INTERVAL;VALUE=DURATION:PT1H
X-Robots-Tag:noindex
X-PUBLISHED-TTL:PT1H
BEGIN:VTIMEZONE
TZID:America/Chicago
BEGIN:DAYLIGHT
TZOFFSETFROM:-0600
TZOFFSETTO:-0500
TZNAME:CDT
DTSTART:20250309T080000
END:DAYLIGHT
BEGIN:STANDARD
TZOFFSETFROM:-0500
TZOFFSETTO:-0600
TZNAME:CST
DTSTART:20251102T070000
END:STANDARD
BEGIN:DAYLIGHT
TZOFFSETFROM:-0600
TZOFFSETTO:-0500
TZNAME:CDT
DTSTART:20260308T080000
END:DAYLIGHT
BEGIN:STANDARD
TZOFFSETFROM:-0500
TZOFFSETTO:-0600
TZNAME:CST
DTSTART:20261101T070000
END:STANDARD
BEGIN:DAYLIGHT
TZOFFSETFROM:-0600
TZOFFSETTO:-0500
TZNAME:CDT
DTSTART:20270314T080000
END:DAYLIGHT
BEGIN:STANDARD
TZOFFSETFROM:-0500
TZOFFSETTO:-0600
TZNAME:CST
DTSTART:20271107T070000
END:STANDARD
END:VTIMEZONE
BEGIN:VEVENT
DTSTART;VALUE=DATE:20260303
DTEND;VALUE=DATE:20260304
DTSTAMP:20260421T103203
CREATED:20250812T170652Z
LAST-MODIFIED:20260303T174104Z
UID:10000175-1772496000-1772582399@stpascalschool.org
SUMMARY:Lenten Reconciliation
DESCRIPTION:
URL:https://stpascalschool.org/event/lenten-reconciliation-4/
END:VEVENT
BEGIN:VEVENT
DTSTART;TZID=America/Chicago:20260305T170000
DTEND;TZID=America/Chicago:20260305T180000
DTSTAMP:20260421T103203
CREATED:20260219T122109Z
LAST-MODIFIED:20260305T182604Z
UID:10000331-1772730000-1772733600@stpascalschool.org
SUMMARY:Kindergarten Night 2026-2027
DESCRIPTION:
URL:https://stpascalschool.org/event/kindergarten-night-2026-2027/
END:VEVENT
BEGIN:VEVENT
DTSTART;VALUE=DATE:20260306
DTEND;VALUE=DATE:20260307
DTSTAMP:20260421T103203
CREATED:20250812T170639Z
LAST-MODIFIED:20260306T190105Z
UID:10000173-1772755200-1772841599@stpascalschool.org
SUMMARY:End of Trimester 2
DESCRIPTION:
URL:https://stpascalschool.org/event/end-of-trimester-2-4/
END:VEVENT
BEGIN:VEVENT
DTSTART;TZID=America/Chicago:20260306T141500
DTEND;TZID=America/Chicago:20260306T151500
DTSTAMP:20260421T103203
CREATED:20251011T102205Z
LAST-MODIFIED:20260306T190105Z
UID:10000221-1772806500-1772810100@stpascalschool.org
SUMMARY:K-5 After School Scouts 2:15-3:15 Old Church
DESCRIPTION:
URL:https://stpascalschool.org/event/k-5-after-school-scouts-215-315-old-church-20/
END:VEVENT
BEGIN:VEVENT
DTSTART;TZID=America/Chicago:20260313T141500
DTEND;TZID=America/Chicago:20260313T151500
DTSTAMP:20260421T103203
CREATED:20251011T102216Z
LAST-MODIFIED:20260312T202605Z
UID:10000222-1773411300-1773414900@stpascalschool.org
SUMMARY:K-5 After School Scouts 2:15-3:15 Old Church
DESCRIPTION:
URL:https://stpascalschool.org/event/k-5-after-school-scouts-215-315-old-church-21/
END:VEVENT
BEGIN:VEVENT
DTSTART;VALUE=DATE:20260317
DTEND;VALUE=DATE:20260318
DTSTAMP:20260421T103203
CREATED:20250812T170652Z
LAST-MODIFIED:20260317T215608Z
UID:10000174-1773705600-1773791999@stpascalschool.org
SUMMARY:Wear Green
DESCRIPTION:
URL:https://stpascalschool.org/event/wear-green-3/
END:VEVENT
BEGIN:VEVENT
DTSTART;VALUE=DATE:20260320
DTEND;VALUE=DATE:20260321
DTSTAMP:20260421T103203
CREATED:20250812T170653Z
LAST-MODIFIED:20260319T222609Z
UID:10000176-1773964800-1774051199@stpascalschool.org
SUMMARY:No SPPS Busing
DESCRIPTION:
URL:https://stpascalschool.org/event/no-spps-busing-12/
END:VEVENT
BEGIN:VEVENT
DTSTART;TZID=America/Chicago:20260320T141500
DTEND;TZID=America/Chicago:20260320T151500
DTSTAMP:20260421T103203
CREATED:20251011T102217Z
LAST-MODIFIED:20260319T222609Z
UID:10000223-1774016100-1774019700@stpascalschool.org
SUMMARY:K-5 After School Scouts 2:15-3:15 Old Church
DESCRIPTION:
URL:https://stpascalschool.org/event/k-5-after-school-scouts-215-315-old-church-22/
END:VEVENT
BEGIN:VEVENT
DTSTART;TZID=America/Chicago:20260323T170000
DTEND;TZID=America/Chicago:20260323T190000
DTSTAMP:20260421T103203
CREATED:20260303T173610Z
LAST-MODIFIED:20260319T222609Z
UID:10000333-1774285200-1774292400@stpascalschool.org
SUMMARY:Culvers Night
DESCRIPTION:
URL:https://stpascalschool.org/event/culvers-night-9/
END:VEVENT
BEGIN:VEVENT
DTSTART;TZID=America/Chicago:20260324T170000
DTEND;TZID=America/Chicago:20260324T190000
DTSTAMP:20260421T103203
CREATED:20250916T023659Z
LAST-MODIFIED:20260312T202605Z
UID:10000199-1774371600-1774378800@stpascalschool.org
SUMMARY:Culver's Night
DESCRIPTION:
URL:https://stpascalschool.org/event/culvers-night-6/
END:VEVENT
BEGIN:VEVENT
DTSTART;TZID=America/Chicago:20260327T141500
DTEND;TZID=America/Chicago:20260327T151500
DTSTAMP:20260421T103203
CREATED:20251011T102217Z
LAST-MODIFIED:20260319T222609Z
UID:10000224-1774620900-1774624500@stpascalschool.org
SUMMARY:K-5 After School Scouts 2:15-3:15 Old Church
DESCRIPTION:
URL:https://stpascalschool.org/event/k-5-after-school-scouts-215-315-old-church-23/
END:VEVENT
BEGIN:VEVENT
DTSTART;VALUE=DATE:20260330
DTEND;VALUE=DATE:20260404
DTSTAMP:20260421T103203
CREATED:20250812T170653Z
LAST-MODIFIED:20260319T222609Z
UID:10000177-1774828800-1775260799@stpascalschool.org
SUMMARY:No School - Spring Break
DESCRIPTION:
URL:https://stpascalschool.org/event/no-school-spring-break-3/
END:VEVENT
END:VCALENDAR