BEGIN:VCALENDAR
VERSION:2.0
PRODID:-//St. Pascal Regional Catholic School - ECPv6.15.17.1//NONSGML v1.0//EN
CALSCALE:GREGORIAN
METHOD:PUBLISH
X-WR-CALNAME:St. Pascal Regional Catholic School
X-ORIGINAL-URL:https://stpascalschool.org
X-WR-CALDESC:Events for St. Pascal Regional Catholic School
REFRESH-INTERVAL;VALUE=DURATION:PT1H
X-Robots-Tag:noindex
X-PUBLISHED-TTL:PT1H
BEGIN:VTIMEZONE
TZID:America/Chicago
BEGIN:DAYLIGHT
TZOFFSETFROM:-0600
TZOFFSETTO:-0500
TZNAME:CDT
DTSTART:20250309T080000
END:DAYLIGHT
BEGIN:STANDARD
TZOFFSETFROM:-0500
TZOFFSETTO:-0600
TZNAME:CST
DTSTART:20251102T070000
END:STANDARD
BEGIN:DAYLIGHT
TZOFFSETFROM:-0600
TZOFFSETTO:-0500
TZNAME:CDT
DTSTART:20260308T080000
END:DAYLIGHT
BEGIN:STANDARD
TZOFFSETFROM:-0500
TZOFFSETTO:-0600
TZNAME:CST
DTSTART:20261101T070000
END:STANDARD
BEGIN:DAYLIGHT
TZOFFSETFROM:-0600
TZOFFSETTO:-0500
TZNAME:CDT
DTSTART:20270314T080000
END:DAYLIGHT
BEGIN:STANDARD
TZOFFSETFROM:-0500
TZOFFSETTO:-0600
TZNAME:CST
DTSTART:20271107T070000
END:STANDARD
END:VTIMEZONE
BEGIN:VEVENT
DTSTART;VALUE=DATE:20260219
DTEND;VALUE=DATE:20260220
DTSTAMP:20260421T203159
CREATED:20260212T100609Z
LAST-MODIFIED:20260219T123105Z
UID:10000327-1771459200-1771545599@stpascalschool.org
SUMMARY:Parent-Teacher Conferences
DESCRIPTION:
URL:https://stpascalschool.org/event/parent-teacher-conferences-11/
END:VEVENT
BEGIN:VEVENT
DTSTART;TZID=America/Chicago:20260220T141500
DTEND;TZID=America/Chicago:20260220T151500
DTSTAMP:20260421T203159
CREATED:20251011T102205Z
LAST-MODIFIED:20260220T124104Z
UID:10000219-1771596900-1771600500@stpascalschool.org
SUMMARY:K-5 After School Scouts 2:15-3:15 Old Church
DESCRIPTION:
URL:https://stpascalschool.org/event/k-5-after-school-scouts-215-315-old-church-18/
END:VEVENT
BEGIN:VEVENT
DTSTART;TZID=America/Chicago:20260223T170000
DTEND;TZID=America/Chicago:20260223T190000
DTSTAMP:20260421T203159
CREATED:20250916T023647Z
LAST-MODIFIED:20260223T134604Z
UID:10000198-1771866000-1771873200@stpascalschool.org
SUMMARY:Culver's Night
DESCRIPTION:
URL:https://stpascalschool.org/event/culvers-night-5/
END:VEVENT
BEGIN:VEVENT
DTSTART;VALUE=DATE:20260224
DTEND;VALUE=DATE:20260225
DTSTAMP:20260421T203159
CREATED:20260212T100609Z
LAST-MODIFIED:20260224T140105Z
UID:10000328-1771891200-1771977599@stpascalschool.org
SUMMARY:Middle School Conference
DESCRIPTION:
URL:https://stpascalschool.org/event/middle-school-conference-2/
END:VEVENT
BEGIN:VEVENT
DTSTART;VALUE=DATE:20260226
DTEND;VALUE=DATE:20260227
DTSTAMP:20260421T203159
CREATED:20260212T100610Z
LAST-MODIFIED:20260226T142604Z
UID:10000329-1772064000-1772150399@stpascalschool.org
SUMMARY:Parent-Teacher Conferences
DESCRIPTION:
URL:https://stpascalschool.org/event/parent-teacher-conferences-12/
END:VEVENT
BEGIN:VEVENT
DTSTART;TZID=America/Chicago:20260227T141500
DTEND;TZID=America/Chicago:20260227T151500
DTSTAMP:20260421T203159
CREATED:20251011T102205Z
LAST-MODIFIED:20260227T144105Z
UID:10000220-1772201700-1772205300@stpascalschool.org
SUMMARY:K-5 After School Scouts 2:15-3:15 Old Church
DESCRIPTION:
URL:https://stpascalschool.org/event/k-5-after-school-scouts-215-315-old-church-19/
END:VEVENT
BEGIN:VEVENT
DTSTART;VALUE=DATE:20260303
DTEND;VALUE=DATE:20260304
DTSTAMP:20260421T203159
CREATED:20250812T170652Z
LAST-MODIFIED:20260303T174104Z
UID:10000175-1772496000-1772582399@stpascalschool.org
SUMMARY:Lenten Reconciliation
DESCRIPTION:
URL:https://stpascalschool.org/event/lenten-reconciliation-4/
END:VEVENT
BEGIN:VEVENT
DTSTART;TZID=America/Chicago:20260305T170000
DTEND;TZID=America/Chicago:20260305T180000
DTSTAMP:20260421T203159
CREATED:20260219T122109Z
LAST-MODIFIED:20260305T182604Z
UID:10000331-1772730000-1772733600@stpascalschool.org
SUMMARY:Kindergarten Night 2026-2027
DESCRIPTION:
URL:https://stpascalschool.org/event/kindergarten-night-2026-2027/
END:VEVENT
BEGIN:VEVENT
DTSTART;VALUE=DATE:20260306
DTEND;VALUE=DATE:20260307
DTSTAMP:20260421T203159
CREATED:20250812T170639Z
LAST-MODIFIED:20260306T190105Z
UID:10000173-1772755200-1772841599@stpascalschool.org
SUMMARY:End of Trimester 2
DESCRIPTION:
URL:https://stpascalschool.org/event/end-of-trimester-2-4/
END:VEVENT
BEGIN:VEVENT
DTSTART;TZID=America/Chicago:20260306T141500
DTEND;TZID=America/Chicago:20260306T151500
DTSTAMP:20260421T203159
CREATED:20251011T102205Z
LAST-MODIFIED:20260306T190105Z
UID:10000221-1772806500-1772810100@stpascalschool.org
SUMMARY:K-5 After School Scouts 2:15-3:15 Old Church
DESCRIPTION:
URL:https://stpascalschool.org/event/k-5-after-school-scouts-215-315-old-church-20/
END:VEVENT
BEGIN:VEVENT
DTSTART;TZID=America/Chicago:20260313T141500
DTEND;TZID=America/Chicago:20260313T151500
DTSTAMP:20260421T203159
CREATED:20251011T102216Z
LAST-MODIFIED:20260312T202605Z
UID:10000222-1773411300-1773414900@stpascalschool.org
SUMMARY:K-5 After School Scouts 2:15-3:15 Old Church
DESCRIPTION:
URL:https://stpascalschool.org/event/k-5-after-school-scouts-215-315-old-church-21/
END:VEVENT
BEGIN:VEVENT
DTSTART;VALUE=DATE:20260317
DTEND;VALUE=DATE:20260318
DTSTAMP:20260421T203159
CREATED:20250812T170652Z
LAST-MODIFIED:20260317T215608Z
UID:10000174-1773705600-1773791999@stpascalschool.org
SUMMARY:Wear Green
DESCRIPTION:
URL:https://stpascalschool.org/event/wear-green-3/
END:VEVENT
BEGIN:VEVENT
DTSTART;VALUE=DATE:20260320
DTEND;VALUE=DATE:20260321
DTSTAMP:20260421T203159
CREATED:20250812T170653Z
LAST-MODIFIED:20260319T222609Z
UID:10000176-1773964800-1774051199@stpascalschool.org
SUMMARY:No SPPS Busing
DESCRIPTION:
URL:https://stpascalschool.org/event/no-spps-busing-12/
END:VEVENT
BEGIN:VEVENT
DTSTART;TZID=America/Chicago:20260320T141500
DTEND;TZID=America/Chicago:20260320T151500
DTSTAMP:20260421T203159
CREATED:20251011T102217Z
LAST-MODIFIED:20260319T222609Z
UID:10000223-1774016100-1774019700@stpascalschool.org
SUMMARY:K-5 After School Scouts 2:15-3:15 Old Church
DESCRIPTION:
URL:https://stpascalschool.org/event/k-5-after-school-scouts-215-315-old-church-22/
END:VEVENT
BEGIN:VEVENT
DTSTART;TZID=America/Chicago:20260323T170000
DTEND;TZID=America/Chicago:20260323T190000
DTSTAMP:20260421T203159
CREATED:20260303T173610Z
LAST-MODIFIED:20260319T222609Z
UID:10000333-1774285200-1774292400@stpascalschool.org
SUMMARY:Culvers Night
DESCRIPTION:
URL:https://stpascalschool.org/event/culvers-night-9/
END:VEVENT
BEGIN:VEVENT
DTSTART;TZID=America/Chicago:20260324T170000
DTEND;TZID=America/Chicago:20260324T190000
DTSTAMP:20260421T203159
CREATED:20250916T023659Z
LAST-MODIFIED:20260312T202605Z
UID:10000199-1774371600-1774378800@stpascalschool.org
SUMMARY:Culver's Night
DESCRIPTION:
URL:https://stpascalschool.org/event/culvers-night-6/
END:VEVENT
BEGIN:VEVENT
DTSTART;TZID=America/Chicago:20260327T141500
DTEND;TZID=America/Chicago:20260327T151500
DTSTAMP:20260421T203159
CREATED:20251011T102217Z
LAST-MODIFIED:20260319T222609Z
UID:10000224-1774620900-1774624500@stpascalschool.org
SUMMARY:K-5 After School Scouts 2:15-3:15 Old Church
DESCRIPTION:
URL:https://stpascalschool.org/event/k-5-after-school-scouts-215-315-old-church-23/
END:VEVENT
BEGIN:VEVENT
DTSTART;VALUE=DATE:20260330
DTEND;VALUE=DATE:20260404
DTSTAMP:20260421T203159
CREATED:20250812T170653Z
LAST-MODIFIED:20260319T222609Z
UID:10000177-1774828800-1775260799@stpascalschool.org
SUMMARY:No School - Spring Break
DESCRIPTION:
URL:https://stpascalschool.org/event/no-school-spring-break-3/
END:VEVENT
BEGIN:VEVENT
DTSTART;TZID=America/Chicago:20260403T141500
DTEND;TZID=America/Chicago:20260403T151500
DTSTAMP:20260421T203159
CREATED:20251011T102217Z
LAST-MODIFIED:20260319T222609Z
UID:10000225-1775225700-1775229300@stpascalschool.org
SUMMARY:K-5 After School Scouts 2:15-3:15 Old Church
DESCRIPTION:
URL:https://stpascalschool.org/event/k-5-after-school-scouts-215-315-old-church-24/
END:VEVENT
BEGIN:VEVENT
DTSTART;VALUE=DATE:20260406
DTEND;VALUE=DATE:20260407
DTSTAMP:20260421T203159
CREATED:20250812T170653Z
LAST-MODIFIED:20260319T222609Z
UID:10000178-1775433600-1775519999@stpascalschool.org
SUMMARY:No School - Easter Monday
DESCRIPTION:
URL:https://stpascalschool.org/event/no-school-easter-monday-2/
END:VEVENT
BEGIN:VEVENT
DTSTART;VALUE=DATE:20260407
DTEND;VALUE=DATE:20260411
DTSTAMP:20260421T203159
CREATED:20250812T170653Z
LAST-MODIFIED:20260319T222609Z
UID:10000179-1775520000-1775865599@stpascalschool.org
SUMMARY:No School - PD for Teachers
DESCRIPTION:
URL:https://stpascalschool.org/event/no-school-pd-for-teachers/
END:VEVENT
BEGIN:VEVENT
DTSTART;TZID=America/Chicago:20260410T141500
DTEND;TZID=America/Chicago:20260410T151500
DTSTAMP:20260421T203159
CREATED:20251011T102229Z
LAST-MODIFIED:20260319T222609Z
UID:10000226-1775830500-1775834100@stpascalschool.org
SUMMARY:K-5 After School Scouts 2:15-3:15 Old Church
DESCRIPTION:
URL:https://stpascalschool.org/event/k-5-after-school-scouts-215-315-old-church-25/
END:VEVENT
BEGIN:VEVENT
DTSTART;TZID=America/Chicago:20260417T141500
DTEND;TZID=America/Chicago:20260417T151500
DTSTAMP:20260421T203159
CREATED:20251011T102229Z
LAST-MODIFIED:20260319T222609Z
UID:10000227-1776435300-1776438900@stpascalschool.org
SUMMARY:K-5 After School Scouts 2:15-3:15 Old Church
DESCRIPTION:
URL:https://stpascalschool.org/event/k-5-after-school-scouts-215-315-old-church-26/
END:VEVENT
BEGIN:VEVENT
DTSTART;VALUE=DATE:20260420
DTEND;VALUE=DATE:20260501
DTSTAMP:20260421T203159
CREATED:20250814T151620Z
LAST-MODIFIED:20250814T151620Z
UID:10000189-1776643200-1777593599@stpascalschool.org
SUMMARY:Spring Assessment Tests
DESCRIPTION:
URL:https://stpascalschool.org/event/spring-assessment-tests/
END:VEVENT
BEGIN:VEVENT
DTSTART;VALUE=DATE:20260420
DTEND;VALUE=DATE:20260509
DTSTAMP:20260421T203159
CREATED:20250812T170653Z
LAST-MODIFIED:20260319T222609Z
UID:10000180-1776643200-1778284799@stpascalschool.org
SUMMARY:Spring NWEA Map Testing
DESCRIPTION:
URL:https://stpascalschool.org/event/spring-nwea-map-testing-3/
END:VEVENT
BEGIN:VEVENT
DTSTART;TZID=America/Chicago:20260424T141500
DTEND;TZID=America/Chicago:20260424T151500
DTSTAMP:20260421T203159
CREATED:20251011T102230Z
LAST-MODIFIED:20260319T222609Z
UID:10000228-1777040100-1777043700@stpascalschool.org
SUMMARY:K-5 After School Scouts 2:15-3:15 Old Church
DESCRIPTION:
URL:https://stpascalschool.org/event/k-5-after-school-scouts-215-315-old-church-27/
END:VEVENT
BEGIN:VEVENT
DTSTART;TZID=America/Chicago:20260427T170000
DTEND;TZID=America/Chicago:20260427T190000
DTSTAMP:20260421T203159
CREATED:20250916T023659Z
LAST-MODIFIED:20260319T222609Z
UID:10000200-1777309200-1777316400@stpascalschool.org
SUMMARY:Culver's Night
DESCRIPTION:
URL:https://stpascalschool.org/event/culvers-night-7/
END:VEVENT
BEGIN:VEVENT
DTSTART;TZID=America/Chicago:20260501T141500
DTEND;TZID=America/Chicago:20260501T151500
DTSTAMP:20260421T203159
CREATED:20251011T102230Z
LAST-MODIFIED:20260319T222609Z
UID:10000229-1777644900-1777648500@stpascalschool.org
SUMMARY:K-5 After School Scouts 2:15-3:15 Old Church
DESCRIPTION:
URL:https://stpascalschool.org/event/k-5-after-school-scouts-215-315-old-church-28/
END:VEVENT
BEGIN:VEVENT
DTSTART;VALUE=DATE:20260504
DTEND;VALUE=DATE:20260505
DTSTAMP:20260421T203159
CREATED:20250903T232152Z
LAST-MODIFIED:20260319T222609Z
UID:10000193-1777852800-1777939199@stpascalschool.org
SUMMARY:Ready Set Smile
DESCRIPTION:
URL:https://stpascalschool.org/event/ready-set-smile-2/
END:VEVENT
BEGIN:VEVENT
DTSTART;TZID=America/Chicago:20260508T141500
DTEND;TZID=America/Chicago:20260508T151500
DTSTAMP:20260421T203159
CREATED:20251011T102230Z
LAST-MODIFIED:20260319T222609Z
UID:10000230-1778249700-1778253300@stpascalschool.org
SUMMARY:K-5 After School Scouts 2:15-3:15 Old Church
DESCRIPTION:
URL:https://stpascalschool.org/event/k-5-after-school-scouts-215-315-old-church-29/
END:VEVENT
END:VCALENDAR