BEGIN:VCALENDAR
VERSION:2.0
PRODID:-//St. Pascal Regional Catholic School - ECPv6.15.17.1//NONSGML v1.0//EN
CALSCALE:GREGORIAN
METHOD:PUBLISH
X-ORIGINAL-URL:https://stpascalschool.org
X-WR-CALDESC:Events for St. Pascal Regional Catholic School
REFRESH-INTERVAL;VALUE=DURATION:PT1H
X-Robots-Tag:noindex
X-PUBLISHED-TTL:PT1H
BEGIN:VTIMEZONE
TZID:America/Chicago
BEGIN:DAYLIGHT
TZOFFSETFROM:-0600
TZOFFSETTO:-0500
TZNAME:CDT
DTSTART:20250309T080000
END:DAYLIGHT
BEGIN:STANDARD
TZOFFSETFROM:-0500
TZOFFSETTO:-0600
TZNAME:CST
DTSTART:20251102T070000
END:STANDARD
BEGIN:DAYLIGHT
TZOFFSETFROM:-0600
TZOFFSETTO:-0500
TZNAME:CDT
DTSTART:20260308T080000
END:DAYLIGHT
BEGIN:STANDARD
TZOFFSETFROM:-0500
TZOFFSETTO:-0600
TZNAME:CST
DTSTART:20261101T070000
END:STANDARD
BEGIN:DAYLIGHT
TZOFFSETFROM:-0600
TZOFFSETTO:-0500
TZNAME:CDT
DTSTART:20270314T080000
END:DAYLIGHT
BEGIN:STANDARD
TZOFFSETFROM:-0500
TZOFFSETTO:-0600
TZNAME:CST
DTSTART:20271107T070000
END:STANDARD
END:VTIMEZONE
BEGIN:VEVENT
DTSTART;VALUE=DATE:20260420
DTEND;VALUE=DATE:20260501
DTSTAMP:20260421T070320
CREATED:20250814T151620Z
LAST-MODIFIED:20250814T151620Z
UID:10000189-1776643200-1777593599@stpascalschool.org
SUMMARY:Spring Assessment Tests
DESCRIPTION:
URL:https://stpascalschool.org/event/spring-assessment-tests/
END:VEVENT
BEGIN:VEVENT
DTSTART;VALUE=DATE:20260420
DTEND;VALUE=DATE:20260509
DTSTAMP:20260421T070320
CREATED:20250812T170653Z
LAST-MODIFIED:20260319T222609Z
UID:10000180-1776643200-1778284799@stpascalschool.org
SUMMARY:Spring NWEA Map Testing
DESCRIPTION:
URL:https://stpascalschool.org/event/spring-nwea-map-testing-3/
END:VEVENT
BEGIN:VEVENT
DTSTART;TZID=America/Chicago:20260424T141500
DTEND;TZID=America/Chicago:20260424T151500
DTSTAMP:20260421T070320
CREATED:20251011T102230Z
LAST-MODIFIED:20260319T222609Z
UID:10000228-1777040100-1777043700@stpascalschool.org
SUMMARY:K-5 After School Scouts 2:15-3:15 Old Church
DESCRIPTION:
URL:https://stpascalschool.org/event/k-5-after-school-scouts-215-315-old-church-27/
END:VEVENT
BEGIN:VEVENT
DTSTART;TZID=America/Chicago:20260427T170000
DTEND;TZID=America/Chicago:20260427T190000
DTSTAMP:20260421T070320
CREATED:20250916T023659Z
LAST-MODIFIED:20260319T222609Z
UID:10000200-1777309200-1777316400@stpascalschool.org
SUMMARY:Culver's Night
DESCRIPTION:
URL:https://stpascalschool.org/event/culvers-night-7/
END:VEVENT
BEGIN:VEVENT
DTSTART;TZID=America/Chicago:20260501T141500
DTEND;TZID=America/Chicago:20260501T151500
DTSTAMP:20260421T070320
CREATED:20251011T102230Z
LAST-MODIFIED:20260319T222609Z
UID:10000229-1777644900-1777648500@stpascalschool.org
SUMMARY:K-5 After School Scouts 2:15-3:15 Old Church
DESCRIPTION:
URL:https://stpascalschool.org/event/k-5-after-school-scouts-215-315-old-church-28/
END:VEVENT
BEGIN:VEVENT
DTSTART;VALUE=DATE:20260504
DTEND;VALUE=DATE:20260505
DTSTAMP:20260421T070320
CREATED:20250903T232152Z
LAST-MODIFIED:20260319T222609Z
UID:10000193-1777852800-1777939199@stpascalschool.org
SUMMARY:Ready Set Smile
DESCRIPTION:
URL:https://stpascalschool.org/event/ready-set-smile-2/
END:VEVENT
BEGIN:VEVENT
DTSTART;TZID=America/Chicago:20260508T141500
DTEND;TZID=America/Chicago:20260508T151500
DTSTAMP:20260421T070320
CREATED:20251011T102230Z
LAST-MODIFIED:20260319T222609Z
UID:10000230-1778249700-1778253300@stpascalschool.org
SUMMARY:K-5 After School Scouts 2:15-3:15 Old Church
DESCRIPTION:
URL:https://stpascalschool.org/event/k-5-after-school-scouts-215-315-old-church-29/
END:VEVENT
BEGIN:VEVENT
DTSTART;TZID=America/Chicago:20260513T093000
DTEND;TZID=America/Chicago:20260513T103000
DTSTAMP:20260421T070320
CREATED:20250812T170653Z
LAST-MODIFIED:20260319T222609Z
UID:10000181-1778664600-1778668200@stpascalschool.org
SUMMARY:Mass for Feast of St. Pascal Baylon
DESCRIPTION:
URL:https://stpascalschool.org/event/mass-for-feast-of-st-pascal-baylon-2/
END:VEVENT
BEGIN:VEVENT
DTSTART;TZID=America/Chicago:20260515T141500
DTEND;TZID=America/Chicago:20260515T151500
DTSTAMP:20260421T070320
CREATED:20251011T102242Z
LAST-MODIFIED:20260319T222609Z
UID:10000231-1778854500-1778858100@stpascalschool.org
SUMMARY:K-5 After School Scouts 2:15-3:15 Old Church
DESCRIPTION:
URL:https://stpascalschool.org/event/k-5-after-school-scouts-215-315-old-church-30/
END:VEVENT
BEGIN:VEVENT
DTSTART;TZID=America/Chicago:20260519T170000
DTEND;TZID=America/Chicago:20260519T190000
DTSTAMP:20260421T070320
CREATED:20250916T023700Z
LAST-MODIFIED:20260319T222609Z
UID:10000201-1779210000-1779217200@stpascalschool.org
SUMMARY:Culver's Night
DESCRIPTION:
URL:https://stpascalschool.org/event/culvers-night-8/
END:VEVENT
BEGIN:VEVENT
DTSTART;TZID=America/Chicago:20260522T141500
DTEND;TZID=America/Chicago:20260522T151500
DTSTAMP:20260421T070320
CREATED:20251011T102243Z
LAST-MODIFIED:20260319T222609Z
UID:10000232-1779459300-1779462900@stpascalschool.org
SUMMARY:K-5 After School Scouts 2:15-3:15 Old Church
DESCRIPTION:
URL:https://stpascalschool.org/event/k-5-after-school-scouts-215-315-old-church-31/
END:VEVENT
BEGIN:VEVENT
DTSTART;VALUE=DATE:20260525
DTEND;VALUE=DATE:20260526
DTSTAMP:20260421T070320
CREATED:20250812T170653Z
LAST-MODIFIED:20260319T222609Z
UID:10000182-1779667200-1779753599@stpascalschool.org
SUMMARY:No School - Memorial Day
DESCRIPTION:
URL:https://stpascalschool.org/event/no-school-memorial-day-5/
END:VEVENT
BEGIN:VEVENT
DTSTART;VALUE=DATE:20260526
DTEND;VALUE=DATE:20260527
DTSTAMP:20260421T070320
CREATED:20250812T170654Z
LAST-MODIFIED:20260319T222609Z
UID:10000183-1779753600-1779839999@stpascalschool.org
SUMMARY:No School - ILP Day for Teachers
DESCRIPTION:
URL:https://stpascalschool.org/event/no-school-ilp-day-for-teachers/
END:VEVENT
BEGIN:VEVENT
DTSTART;VALUE=DATE:20260527
DTEND;VALUE=DATE:20260528
DTSTAMP:20260421T070320
CREATED:20250812T170706Z
LAST-MODIFIED:20260319T222610Z
UID:10000184-1779840000-1779926399@stpascalschool.org
SUMMARY:No SPPS Busing
DESCRIPTION:
URL:https://stpascalschool.org/event/no-spps-busing-13/
END:VEVENT
BEGIN:VEVENT
DTSTART;TZID=America/Chicago:20260529T141500
DTEND;TZID=America/Chicago:20260529T151500
DTSTAMP:20260421T070320
CREATED:20251011T102243Z
LAST-MODIFIED:20260319T222610Z
UID:10000233-1780064100-1780067700@stpascalschool.org
SUMMARY:K-5 After School Scouts 2:15-3:15 Old Church
DESCRIPTION:
URL:https://stpascalschool.org/event/k-5-after-school-scouts-215-315-old-church-32/
END:VEVENT
BEGIN:VEVENT
DTSTART;TZID=America/Chicago:20260602T180000
DTEND;TZID=America/Chicago:20260602T193000
DTSTAMP:20260421T070320
CREATED:20250812T170706Z
LAST-MODIFIED:20260319T222610Z
UID:10000185-1780423200-1780428600@stpascalschool.org
SUMMARY:8th Grade Graduation Mass
DESCRIPTION:
URL:https://stpascalschool.org/event/8th-grade-graduation-mass-3/
END:VEVENT
BEGIN:VEVENT
DTSTART;VALUE=DATE:20260605
DTEND;VALUE=DATE:20260606
DTSTAMP:20260421T070320
CREATED:20250812T170706Z
LAST-MODIFIED:20260319T222610Z
UID:10000186-1780617600-1780703999@stpascalschool.org
SUMMARY:Last day of School
DESCRIPTION:
URL:https://stpascalschool.org/event/last-day-of-school-5/
END:VEVENT
BEGIN:VEVENT
DTSTART;TZID=America/Chicago:20260605T141500
DTEND;TZID=America/Chicago:20260605T151500
DTSTAMP:20260421T070320
CREATED:20251011T102243Z
LAST-MODIFIED:20260319T222610Z
UID:10000234-1780668900-1780672500@stpascalschool.org
SUMMARY:K-5 After School Scouts 2:15-3:15 Old Church
DESCRIPTION:
URL:https://stpascalschool.org/event/k-5-after-school-scouts-215-315-old-church-33/
END:VEVENT
BEGIN:VEVENT
DTSTART;TZID=America/Chicago:20260612T141500
DTEND;TZID=America/Chicago:20260612T151500
DTSTAMP:20260421T070320
CREATED:20251011T102255Z
LAST-MODIFIED:20260319T222610Z
UID:10000235-1781273700-1781277300@stpascalschool.org
SUMMARY:K-5 After School Scouts 2:15-3:15 Old Church
DESCRIPTION:
URL:https://stpascalschool.org/event/k-5-after-school-scouts-215-315-old-church-34/
END:VEVENT
BEGIN:VEVENT
DTSTART;TZID=America/Chicago:20260619T141500
DTEND;TZID=America/Chicago:20260619T151500
DTSTAMP:20260421T070320
CREATED:20251011T102255Z
LAST-MODIFIED:20260319T222610Z
UID:10000236-1781878500-1781882100@stpascalschool.org
SUMMARY:K-5 After School Scouts 2:15-3:15 Old Church
DESCRIPTION:
URL:https://stpascalschool.org/event/k-5-after-school-scouts-215-315-old-church-35/
END:VEVENT
BEGIN:VEVENT
DTSTART;TZID=America/Chicago:20260626T141500
DTEND;TZID=America/Chicago:20260626T151500
DTSTAMP:20260421T070320
CREATED:20251011T102256Z
LAST-MODIFIED:20260319T222610Z
UID:10000237-1782483300-1782486900@stpascalschool.org
SUMMARY:K-5 After School Scouts 2:15-3:15 Old Church
DESCRIPTION:
URL:https://stpascalschool.org/event/k-5-after-school-scouts-215-315-old-church-36/
END:VEVENT
BEGIN:VEVENT
DTSTART;TZID=America/Chicago:20260703T141500
DTEND;TZID=America/Chicago:20260703T151500
DTSTAMP:20260421T070320
CREATED:20251011T102256Z
LAST-MODIFIED:20260319T222610Z
UID:10000238-1783088100-1783091700@stpascalschool.org
SUMMARY:K-5 After School Scouts 2:15-3:15 Old Church
DESCRIPTION:
URL:https://stpascalschool.org/event/k-5-after-school-scouts-215-315-old-church-37/
END:VEVENT
BEGIN:VEVENT
DTSTART;TZID=America/Chicago:20260710T141500
DTEND;TZID=America/Chicago:20260710T151500
DTSTAMP:20260421T070320
CREATED:20251011T102256Z
LAST-MODIFIED:20260319T222610Z
UID:10000239-1783692900-1783696500@stpascalschool.org
SUMMARY:K-5 After School Scouts 2:15-3:15 Old Church
DESCRIPTION:
URL:https://stpascalschool.org/event/k-5-after-school-scouts-215-315-old-church-38/
END:VEVENT
BEGIN:VEVENT
DTSTART;TZID=America/Chicago:20260717T141500
DTEND;TZID=America/Chicago:20260717T151500
DTSTAMP:20260421T070320
CREATED:20251011T102256Z
LAST-MODIFIED:20260319T222610Z
UID:10000240-1784297700-1784301300@stpascalschool.org
SUMMARY:K-5 After School Scouts 2:15-3:15 Old Church
DESCRIPTION:
URL:https://stpascalschool.org/event/k-5-after-school-scouts-215-315-old-church-39/
END:VEVENT
BEGIN:VEVENT
DTSTART;TZID=America/Chicago:20260724T141500
DTEND;TZID=America/Chicago:20260724T151500
DTSTAMP:20260421T070320
CREATED:20251011T102256Z
LAST-MODIFIED:20260319T222610Z
UID:10000241-1784902500-1784906100@stpascalschool.org
SUMMARY:K-5 After School Scouts 2:15-3:15 Old Church
DESCRIPTION:
URL:https://stpascalschool.org/event/k-5-after-school-scouts-215-315-old-church-40/
END:VEVENT
BEGIN:VEVENT
DTSTART;TZID=America/Chicago:20260731T141500
DTEND;TZID=America/Chicago:20260731T151500
DTSTAMP:20260421T070320
CREATED:20251011T102256Z
LAST-MODIFIED:20260319T222610Z
UID:10000242-1785507300-1785510900@stpascalschool.org
SUMMARY:K-5 After School Scouts 2:15-3:15 Old Church
DESCRIPTION:
URL:https://stpascalschool.org/event/k-5-after-school-scouts-215-315-old-church-41/
END:VEVENT
BEGIN:VEVENT
DTSTART;TZID=America/Chicago:20260807T141500
DTEND;TZID=America/Chicago:20260807T151500
DTSTAMP:20260421T070320
CREATED:20251011T102256Z
LAST-MODIFIED:20260319T222610Z
UID:10000243-1786112100-1786115700@stpascalschool.org
SUMMARY:K-5 After School Scouts 2:15-3:15 Old Church
DESCRIPTION:
URL:https://stpascalschool.org/event/k-5-after-school-scouts-215-315-old-church-42/
END:VEVENT
BEGIN:VEVENT
DTSTART;TZID=America/Chicago:20260814T141500
DTEND;TZID=America/Chicago:20260814T151500
DTSTAMP:20260421T070320
CREATED:20251011T102257Z
LAST-MODIFIED:20260319T222610Z
UID:10000244-1786716900-1786720500@stpascalschool.org
SUMMARY:K-5 After School Scouts 2:15-3:15 Old Church
DESCRIPTION:
URL:https://stpascalschool.org/event/k-5-after-school-scouts-215-315-old-church-43/
END:VEVENT
BEGIN:VEVENT
DTSTART;TZID=America/Chicago:20260821T141500
DTEND;TZID=America/Chicago:20260821T151500
DTSTAMP:20260421T070320
CREATED:20251011T102309Z
LAST-MODIFIED:20260319T222610Z
UID:10000245-1787321700-1787325300@stpascalschool.org
SUMMARY:K-5 After School Scouts 2:15-3:15 Old Church
DESCRIPTION:
URL:https://stpascalschool.org/event/k-5-after-school-scouts-215-315-old-church-44/
END:VEVENT
BEGIN:VEVENT
DTSTART;TZID=America/Chicago:20260828T141500
DTEND;TZID=America/Chicago:20260828T151500
DTSTAMP:20260421T070320
CREATED:20251011T102309Z
LAST-MODIFIED:20260319T222610Z
UID:10000246-1787926500-1787930100@stpascalschool.org
SUMMARY:K-5 After School Scouts 2:15-3:15 Old Church
DESCRIPTION:
URL:https://stpascalschool.org/event/k-5-after-school-scouts-215-315-old-church-45/
END:VEVENT
END:VCALENDAR