BEGIN:VCALENDAR
VERSION:2.0
PRODID:-//St. Pascal Regional Catholic School - ECPv6.15.17.1//NONSGML v1.0//EN
CALSCALE:GREGORIAN
METHOD:PUBLISH
X-ORIGINAL-URL:https://stpascalschool.org
X-WR-CALDESC:Events for St. Pascal Regional Catholic School
REFRESH-INTERVAL;VALUE=DURATION:PT1H
X-Robots-Tag:noindex
X-PUBLISHED-TTL:PT1H
BEGIN:VTIMEZONE
TZID:America/Chicago
BEGIN:DAYLIGHT
TZOFFSETFROM:-0600
TZOFFSETTO:-0500
TZNAME:CDT
DTSTART:20240310T080000
END:DAYLIGHT
BEGIN:STANDARD
TZOFFSETFROM:-0500
TZOFFSETTO:-0600
TZNAME:CST
DTSTART:20241103T070000
END:STANDARD
BEGIN:DAYLIGHT
TZOFFSETFROM:-0600
TZOFFSETTO:-0500
TZNAME:CDT
DTSTART:20250309T080000
END:DAYLIGHT
BEGIN:STANDARD
TZOFFSETFROM:-0500
TZOFFSETTO:-0600
TZNAME:CST
DTSTART:20251102T070000
END:STANDARD
BEGIN:DAYLIGHT
TZOFFSETFROM:-0600
TZOFFSETTO:-0500
TZNAME:CDT
DTSTART:20260308T080000
END:DAYLIGHT
BEGIN:STANDARD
TZOFFSETFROM:-0500
TZOFFSETTO:-0600
TZNAME:CST
DTSTART:20261101T070000
END:STANDARD
END:VTIMEZONE
BEGIN:VEVENT
DTSTART;VALUE=DATE:20251120
DTEND;VALUE=DATE:20251126
DTSTAMP:20260421T184452
CREATED:20250812T170624Z
LAST-MODIFIED:20251030T155605Z
UID:10000155-1763596800-1764115199@stpascalschool.org
SUMMARY:Scholastic Book Fair
DESCRIPTION:
URL:https://stpascalschool.org/event/scholastic-book-fair-3/
END:VEVENT
BEGIN:VEVENT
DTSTART;VALUE=DATE:20251125
DTEND;VALUE=DATE:20251126
DTSTAMP:20260421T184452
CREATED:20250812T170625Z
LAST-MODIFIED:20251125T235606Z
UID:10000158-1764028800-1764115199@stpascalschool.org
SUMMARY:End of Trimester 1
DESCRIPTION:
URL:https://stpascalschool.org/event/end-of-trimester-1-3/
END:VEVENT
BEGIN:VEVENT
DTSTART;TZID=America/Chicago:20251125T150000
DTEND;TZID=America/Chicago:20251125T190000
DTSTAMP:20260421T184452
CREATED:20250812T170625Z
LAST-MODIFIED:20251125T235605Z
UID:10000157-1764082800-1764097200@stpascalschool.org
SUMMARY:Parent-Teacher Conferences
DESCRIPTION:
URL:https://stpascalschool.org/event/parent-teacher-conferences-10/
END:VEVENT
END:VCALENDAR